BEGIN:VCALENDAR
VERSION:2.0
PRODID:-//Eventin//Event Calendar//EN
CALSCALE:GREGORIAN
METHOD:PUBLISH
BEGIN:VEVENT
UID:61836f14004bb9c5f86344611d19fb53@blwcare.co
SUMMARY:Core Event
DESCRIPTION:Dear fellow members\, advisors and friends of BLW\,\nYou are co
 rdially invited to our next BLW SG Core Event which features:\n\nour member
  will conduct a mini-workshop on going from greenhouse effects to net carbo
 n zero and what opportunities exist for SMEs.\n\nCo-host: Dr. (hc) Mark Bar
 nabas Lee\, Co-Founder of LevelUp by TriFactor and BLW MemberDress Code:  
 Business casualRSVP: 7th May 2026 (Limited seats\, reservation will be base
 d on a first-come-first-served basis)\nNon-member are welcome
LOCATION:Level Up by TriFactor 2 Science Park Dr\, #01-01 Ascent\, Singapor
 e Science Park 1\, Singapore 118222
DTSTAMP:20260421T122038Z
DTSTART:20260514T090000Z
DTEND:20260514T113000Z
END:VEVENT
END:VCALENDAR
